BEGIN:VCALENDAR
VERSION:2.0
PRODID:-//O[yes] - ECPv6.15.20//NONSGML v1.0//EN
CALSCALE:GREGORIAN
METHOD:PUBLISH
X-WR-CALNAME:O[yes]
X-ORIGINAL-URL:https://youngemployeesafety.org
X-WR-CALDESC:Events for O[yes]
REFRESH-INTERVAL;VALUE=DURATION:PT1H
X-Robots-Tag:noindex
X-PUBLISHED-TTL:PT1H
BEGIN:VTIMEZONE
TZID:UTC
BEGIN:STANDARD
TZOFFSETFROM:+0000
TZOFFSETTO:+0000
TZNAME:UTC
DTSTART:20240101T000000
END:STANDARD
END:VTIMEZONE
BEGIN:VEVENT
DTSTART;VALUE=DATE:20250304
DTEND;VALUE=DATE:20250305
DTSTAMP:20260423T163051
CREATED:20241024T232241Z
LAST-MODIFIED:20250203T221436Z
UID:257-1741046400-1741132799@youngemployeesafety.org
SUMMARY:GOSH Student Day
DESCRIPTION:The Oregon Governor’s Occupational Safety & Health Conference (GOSH) is the largest safety and health conference in the Northwest and one of the largest in the United States.
URL:https://youngemployeesafety.org/event/gosh-student-day/
LOCATION:Oregon Convention Center\, 777 NE Martin Luther King\, Jr. Boulevard\, Portland\, OR\, 97232\, United States
CATEGORIES:GOSH
ATTACH;FMTTYPE=image/png:https://youngemployeesafety.org/wp-content/uploads/2024/10/GOSH-logo-2025.png
END:VEVENT
END:VCALENDAR